BEGIN:VCALENDAR
VERSION:2.0
PRODID:-//Fejø - ECPv6.15.20//NONSGML v1.0//EN
CALSCALE:GREGORIAN
METHOD:PUBLISH
X-ORIGINAL-URL:https://fejoe.dk
X-WR-CALDESC:Begivenheder for Fejø
REFRESH-INTERVAL;VALUE=DURATION:PT1H
X-Robots-Tag:noindex
X-PUBLISHED-TTL:PT1H
BEGIN:VTIMEZONE
TZID:Europe/Copenhagen
BEGIN:DAYLIGHT
TZOFFSETFROM:+0100
TZOFFSETTO:+0200
TZNAME:CEST
DTSTART:20250330T010000
END:DAYLIGHT
BEGIN:STANDARD
TZOFFSETFROM:+0200
TZOFFSETTO:+0100
TZNAME:CET
DTSTART:20251026T010000
END:STANDARD
BEGIN:DAYLIGHT
TZOFFSETFROM:+0100
TZOFFSETTO:+0200
TZNAME:CEST
DTSTART:20260329T010000
END:DAYLIGHT
BEGIN:STANDARD
TZOFFSETFROM:+0200
TZOFFSETTO:+0100
TZNAME:CET
DTSTART:20261025T010000
END:STANDARD
BEGIN:DAYLIGHT
TZOFFSETFROM:+0100
TZOFFSETTO:+0200
TZNAME:CEST
DTSTART:20270328T010000
END:DAYLIGHT
BEGIN:STANDARD
TZOFFSETFROM:+0200
TZOFFSETTO:+0100
TZNAME:CET
DTSTART:20271031T010000
END:STANDARD
END:VTIMEZONE
BEGIN:VEVENT
DTSTART;TZID=Europe/Copenhagen:20260509T140000
DTEND;TZID=Europe/Copenhagen:20260509T153000
DTSTAMP:20260419T201225
CREATED:20260126T093218Z
LAST-MODIFIED:20260126T093218Z
UID:10891-1778335200-1778340600@fejoe.dk
SUMMARY:Generalforsamling i Fejø Tekniske Museum
DESCRIPTION:
URL:https://fejoe.dk/event/generalforsamling-i-fejoe-tekniske-museum/
LOCATION:Fejø Tekniske Museum\, Vestergårdsvej 5\, Fejø\, 4944\, Danmark
ATTACH;FMTTYPE=image/jpeg:https://fejoe.dk/wp-content/uploads/2026/01/Fejoe-Tekniske-Museum.jpg
ORGANIZER;CN="Fej%C3%B8 Tekniske Museum":MAILTO:ftm@fejoe-tekniske-museum.dk
END:VEVENT
BEGIN:VEVENT
DTSTART;TZID=Europe/Copenhagen:20260518T180000
DTEND;TZID=Europe/Copenhagen:20260518T210000
DTSTAMP:20260419T201225
CREATED:20260409T095325Z
LAST-MODIFIED:20260409T182111Z
UID:11006-1779127200-1779138000@fejoe.dk
SUMMARY:Ladywalk 2026
DESCRIPTION:Så er det ved at være tid igen til den årlige gåtur til fordel for forskning i kvindesygdomme.\nLadywalk i år finder sted den 18 maj kl. 18.00 hvor vi  går fra Lienlund i Nakskov.\nDer kan vælges mellem følgende distancer: 3 km\, 7 km\, 12 km. Det betyder at så godt som alle kan deltage. \nDet koster kr. 205\,- og for disse penge får man 1 t-shirt\, en goodie bag med brød\, frugt og vand.\nSidste tilmelding er den 19/4 april\, efter den dato koster det kr. 255\,- for tilmelding på dagen. \nJeg vil gerne tilmelde og koordinere hvis I sender mig følgende: \nNavn\nT-shirt str.\nMail og telefonnr.\n205 kr. på mobilepay 7140BM og om i ønsker at deltage i spisning efter gåturen \nPia Andersen\, klipoteket.pa@gmail.com
URL:https://fejoe.dk/event/ladywalk-2026/
ATTACH;FMTTYPE=image/jpeg:https://fejoe.dk/wp-content/uploads/2026/04/ladywalk26.jpg
END:VEVENT
BEGIN:VEVENT
DTSTART;TZID=Europe/Copenhagen:20260523T090000
DTEND;TZID=Europe/Copenhagen:20260523T140000
DTSTAMP:20260419T201225
CREATED:20260409T092303Z
LAST-MODIFIED:20260409T092303Z
UID:11003-1779526800-1779544800@fejoe.dk
SUMMARY:Kvickrun på Fejø i pinsen
DESCRIPTION:Start fra færgehavnen kl. 9.20.\n\n\nDu kan gå eller løbe – eller begge dele. Distancerne er 5 km\, 7 km\, 14 km\, 1/2 maraton og maraton (maraton har start kl. 8.20) \n\n\nVed brug af rabatkoden Fejoe2026 ved tilmelding\, får I som beboer/sommerhusejer på Fejø 50 kr i rabat. \nLæs mere og tilmeld på www.kvickrun.com\n\n\nKom med til nogle hyggetimer i motionens tegn
URL:https://fejoe.dk/event/kvickrun-paa-fejoe-i-pinsen/
LOCATION:Vesterby Havn\, herredsvej 2\, Fejø\, 4944\, Denmark
ATTACH;FMTTYPE=image/png:https://fejoe.dk/wp-content/uploads/2025/06/Skaermbillede-2025-06-15-143647.png
ORGANIZER;CN="Fej%C3%B8 Idr%C3%A6tsforening":MAILTO:fifpostkasse@gmail.com
END:VEVENT
BEGIN:VEVENT
DTSTART;TZID=Europe/Copenhagen:20260531T103000
DTEND;TZID=Europe/Copenhagen:20260531T133000
DTSTAMP:20260419T201225
CREATED:20260414T170509Z
LAST-MODIFIED:20260414T170619Z
UID:11031-1780223400-1780234200@fejoe.dk
SUMMARY:Skovbingo
DESCRIPTION:Alle er velkomne\, og man møder bare op ved jagthytten på Storemosevej. \nSe også opslag på mailinglisten og Fejøbladet.
URL:https://fejoe.dk/event/skovbingo-3/
LOCATION:Præstelunden\, Storemosevej\, Storemosevej 105\, Fejø\, 4944\, Danmark
ATTACH;FMTTYPE=image/png:https://fejoe.dk/wp-content/uploads/2022/01/pensionistforening.png
END:VEVENT
END:VCALENDAR