BEGIN:VCALENDAR
VERSION:2.0
PRODID:-//Fejø - ECPv6.15.20//NONSGML v1.0//EN
CALSCALE:GREGORIAN
METHOD:PUBLISH
X-ORIGINAL-URL:https://fejoe.dk
X-WR-CALDESC:Begivenheder for Fejø
REFRESH-INTERVAL;VALUE=DURATION:PT1H
X-Robots-Tag:noindex
X-PUBLISHED-TTL:PT1H
BEGIN:VTIMEZONE
TZID:Europe/Copenhagen
BEGIN:DAYLIGHT
TZOFFSETFROM:+0100
TZOFFSETTO:+0200
TZNAME:CEST
DTSTART:20240331T010000
END:DAYLIGHT
BEGIN:STANDARD
TZOFFSETFROM:+0200
TZOFFSETTO:+0100
TZNAME:CET
DTSTART:20241027T010000
END:STANDARD
BEGIN:DAYLIGHT
TZOFFSETFROM:+0100
TZOFFSETTO:+0200
TZNAME:CEST
DTSTART:20250330T010000
END:DAYLIGHT
BEGIN:STANDARD
TZOFFSETFROM:+0200
TZOFFSETTO:+0100
TZNAME:CET
DTSTART:20251026T010000
END:STANDARD
BEGIN:DAYLIGHT
TZOFFSETFROM:+0100
TZOFFSETTO:+0200
TZNAME:CEST
DTSTART:20260329T010000
END:DAYLIGHT
BEGIN:STANDARD
TZOFFSETFROM:+0200
TZOFFSETTO:+0100
TZNAME:CET
DTSTART:20261025T010000
END:STANDARD
END:VTIMEZONE
BEGIN:VEVENT
DTSTART;TZID=Europe/Copenhagen:20251004T150000
DTEND;TZID=Europe/Copenhagen:20251004T230000
DTSTAMP:20260422T140911
CREATED:20250802T084351Z
LAST-MODIFIED:20250921T081215Z
UID:10761-1759590000-1759618800@fejoe.dk
SUMMARY:Frivilligfest på Fejø
DESCRIPTION:Sensommerfest for de frivillige på Fejø \nVi har søgt og modtaget midler fra Østifternes Jubilæumsfond. Fejøforeningen afholder en sammenkomst for de frivillige kræfter på øen. \nVi beder om tilmelding til fejoefest@gmail.com senest den 27/9. Der er plads til 150 deltagere.
URL:https://fejoe.dk/event/frivilligfest-paa-fejoe/
LOCATION:Fejø Børne- og Kulturhus\, Herredsvej 192\, Fejø\, 4944
ATTACH;FMTTYPE=image/png:https://fejoe.dk/wp-content/uploads/2022/11/Fejoe-logo.png
ORGANIZER;CN="Fej%C3%B8foreningen":MAILTO:fejoeforeningen@gmail.com
END:VEVENT
BEGIN:VEVENT
DTSTART;TZID=Europe/Copenhagen:20251007T184500
DTEND;TZID=Europe/Copenhagen:20251007T210000
DTSTAMP:20260422T140911
CREATED:20250516T154926Z
LAST-MODIFIED:20250516T154956Z
UID:10682-1759862700-1759870800@fejoe.dk
SUMMARY:Livestream fra AU\, foredrag i naturvidenskab
DESCRIPTION:Havets kollaps og vejen tilbage v.Stig Markager\, professor i havmiljø
URL:https://fejoe.dk/event/livestream-fra-au-foredrag-i-naturvidenskab-2/
LOCATION:Præstegården\, Storemosevej 109\, Fejø\, 4944
ATTACH;FMTTYPE=image/png:https://fejoe.dk/wp-content/uploads/2023/10/forskerforedrag-2023.png
END:VEVENT
BEGIN:VEVENT
DTSTART;TZID=Europe/Copenhagen:20251008T083500
DTEND;TZID=Europe/Copenhagen:20251008T131000
DTSTAMP:20260422T140911
CREATED:20250831T145444Z
LAST-MODIFIED:20250831T145444Z
UID:10774-1759912500-1759929000@fejoe.dk
SUMMARY:Fællestur til Søllested Bio\, formiddagsbio inkl. kaffe og morgenbrød
DESCRIPTION:Vi ser filmen ”Under stjerner på himlen”. \nEt portræt af en af dansk popkulturs største stjerner\, Tommy Seebach. Et rørende og livsbekræftende drama om en mand\, der indædt kæmper for at forblive på toppen. Det er samtidig en familiehistorie om en far\, hvis konstante higen efter anerkendelse spænder ben for hans store kærlighed til sin familie. \nVi tager færgen fra Fejø kl.8.35 og hjem igen kl.12.50- en lille formiddagstur. Vi køber billetter og koordinerer fælleskørsel\, så vil du deltage\, og kan du evt. køre\, så ring til  Annette tlf. 28348408 inden 1/10. \n 
URL:https://fejoe.dk/event/faellestur-til-soellested-bio-formiddagsbio-inkl-kaffe-og-morgenbroed/
LOCATION:Søllested Bio\, Højrebygade 62\, Søllested\, 4920\, Denmark
ATTACH;FMTTYPE=image/jpeg:https://fejoe.dk/wp-content/uploads/2025/08/Fredagsfilm-25-26-med-logo.jpg
END:VEVENT
BEGIN:VEVENT
DTSTART;TZID=Europe/Copenhagen:20251011T100000
DTEND;TZID=Europe/Copenhagen:20251011T150000
DTSTAMP:20260422T140911
CREATED:20251003T191720Z
LAST-MODIFIED:20251006T155308Z
UID:10812-1760176800-1760194800@fejoe.dk
SUMMARY:Æblets Dag 2025
DESCRIPTION:Æblets Dag – første lørdag i efterårsferien – er en stor festdag på Fejø. Frivillige organiserer et spændende marked på Dybvig Havn\, og hundredevis af gæster kommer til øen for at få en hyggelig dag\, se æblemosaik og købe lækkerier.\nHvert år byder Fejø velkommen til en skøn fejring af hele Danmarks yndlingsfrugt\, æblet. Æblets Dag fejres hvert år lørdag i uge 41\, en tradition der går tilbage til 2002. På den hyggelige og høstpyntede Dybvig Havn byder et mekka af boder på en mangfoldighed af lokalproduceret frugt\, kunsthåndværk og specialiteter.\nDer er æbledoktor og udstillinger om æbleproduktion gennem årene. Oplev også skøn mad og drikke\, farverige konkurrencer og hyggelig musik. Og så afslører årets taler naturligvis en ny smuk æblemosaik hvert eneste år.\nÆblemosaikken\, et kunstværk på ca. 12 m²\, bliver stående på havnen i ca. 5 uger\, hvor farverne skifter gradvis. Når den ikke længere giver næring til sjælen\, bliver den fuglenes føde.\nDer vil være rig mulighed for at møde lokale øboere\, få en snak og nyde noget af det vi er særligt gode til på Fejø – nemlig fællesskab! Vi glæder os til at byde børn og voksne velkommen til en fornøjelig efterårsdag i Dybvig havn. \nEntré og transport\nDer er gratis entré til markedet. Ligeledes er der gratis færgeoverfart for gående\, og bussen kører i pendulfart mellem færgehavnen og Dybvig havn hvor arrangementet foregår. Husk en 20 kr mønt\, som er prisen pr. person for en tur-retur kørsel. \nParkering\nParkering af biler kan ske i afmærket område tæt ved havnen. Vær opmærksom på at parkering på Dybvigvej ikke er tilladt. \nProgram\nKl.10.00 Markedet åbner\nKl 10.15 Velkomst v. Benny Damgaard\nKl.10.20 Tale ved Line Trap Mogensen\nKl.10.30 Afsløring af årets æblemosaik v. Birgitte Koch\nKl.11.00 Det Gule Pakhus: Frist for indlevering af af most + frugt til konkurrencer. Kåring af vindere af største æble/pære\nKl. 12.00 Bådværftet: Indvielse af båndsave viceborgmester Henrik Jacobsen\, Benny Damgaard og Per Rolighed\nKl. 13.00 Frist for indlevering af gæt til græskarkonkurrencen\nKl. 14.00 Det Gule Pakhus: Kåring af vinder af mostkonkurrencen\nKl. 15.00 Boderne lukker. Tak for i dag! \nInformation og booking af stand\nLene Pedersen\nEmail: lene@roum.eu\nTlf.:  2424 8076
URL:https://fejoe.dk/event/aeblets-dag-2025/
LOCATION:Dybvig Havn\, Dybvigvej 44\, Fejø\, 4944
END:VEVENT
BEGIN:VEVENT
DTSTART;TZID=Europe/Copenhagen:20251013T210000
DTEND;TZID=Europe/Copenhagen:20251013T233000
DTSTAMP:20260422T140911
CREATED:20241023T111946Z
LAST-MODIFIED:20241023T111946Z
UID:10296-1760389200-1760398200@fejoe.dk
SUMMARY:Deadline for Fejøbladet nr. 7
DESCRIPTION:Bladet udkommer cirka 26/10 \nIndlæg sendes til fejoebladet@gmail.com\nSkriv altid i overskriften\, hvad du sender.
URL:https://fejoe.dk/event/deadline-for-fejoebladet-nr-7-3/
ATTACH;FMTTYPE=image/png:https://fejoe.dk/wp-content/uploads/2023/04/fejoebladet-logo.png
END:VEVENT
BEGIN:VEVENT
DTSTART;TZID=Europe/Copenhagen:20251021T184500
DTEND;TZID=Europe/Copenhagen:20251021T210000
DTSTAMP:20260422T140911
CREATED:20250516T155224Z
LAST-MODIFIED:20250516T155224Z
UID:10685-1761072300-1761080400@fejoe.dk
SUMMARY:Livestream fra AU\, foredrag i naturvidenskab
DESCRIPTION:Forædlingen af mennesket – før og nu v.Professor Tobias Wang
URL:https://fejoe.dk/event/livestream-fra-au-foredrag-i-naturvidenskab-3/
LOCATION:Præstegården\, Storemosevej 109\, Fejø\, 4944
ATTACH;FMTTYPE=image/png:https://fejoe.dk/wp-content/uploads/2023/10/forskerforedrag-2023.png
END:VEVENT
BEGIN:VEVENT
DTSTART;TZID=Europe/Copenhagen:20251026T130000
DTEND;TZID=Europe/Copenhagen:20251026T180000
DTSTAMP:20260422T140911
CREATED:20250727T151450Z
LAST-MODIFIED:20250921T080409Z
UID:10737-1761483600-1761501600@fejoe.dk
SUMMARY:Visionsmøde 9
DESCRIPTION:Vi fortsætter diskussionerne om visionsplanen og energiplanen\, så alle kan få svar på de spørgsmål de har. Vi har afsat ekstra tid\, for at vi kan gå i dybden med de emner som har behov for det. \nVi starter med en inddragende rammesætning af mødet\, så alle er med til at bestemme dagsordenen. \n 
URL:https://fejoe.dk/event/visionsmoede-9/
LOCATION:Fejø Børne- og Kulturhus\, Herredsvej 192\, Fejø\, 4944
ATTACH;FMTTYPE=image/png:https://fejoe.dk/wp-content/uploads/2022/11/Fejoe-logo.png
ORGANIZER;CN="Fej%C3%B8foreningen":MAILTO:fejoeforeningen@gmail.com
END:VEVENT
BEGIN:VEVENT
DTSTART;TZID=Europe/Copenhagen:20251028T184500
DTEND;TZID=Europe/Copenhagen:20251028T210000
DTSTAMP:20260422T140911
CREATED:20250516T155426Z
LAST-MODIFIED:20250516T155426Z
UID:10687-1761677100-1761685200@fejoe.dk
SUMMARY:Livestream fra AU\, foredrag i naturvidenskab
DESCRIPTION:DNA og fossiler udvider vores stamtræ v. professor Mikkel Heide Schierup og professor Felix Riede
URL:https://fejoe.dk/event/livestream-fra-au-foredrag-i-naturvidenskab-4/
LOCATION:Præstegården\, Storemosevej 109\, Fejø\, 4944
ATTACH;FMTTYPE=image/png:https://fejoe.dk/wp-content/uploads/2023/10/forskerforedrag-2023.png
END:VEVENT
BEGIN:VEVENT
DTSTART;TZID=Europe/Copenhagen:20251029T190000
DTEND;TZID=Europe/Copenhagen:20251029T210000
DTSTAMP:20260422T140911
CREATED:20250921T083141Z
LAST-MODIFIED:20250921T084156Z
UID:10804-1761764400-1761771600@fejoe.dk
SUMMARY:Kom og syng med Jakob og Poul
DESCRIPTION:Vi synger årstidens sange i præstegårdens konfirmandstue
URL:https://fejoe.dk/event/kom-og-syng-med-jakob-og-poul-2/
LOCATION:Præstegården\, Storemosevej 109\, Fejø\, 4944
ATTACH;FMTTYPE=image/jpeg:https://fejoe.dk/wp-content/uploads/2025/09/klaviatur.jpg
END:VEVENT
END:VCALENDAR