BEGIN:VCALENDAR
VERSION:2.0
PRODID:-//Fejø - ECPv6.15.20//NONSGML v1.0//EN
CALSCALE:GREGORIAN
METHOD:PUBLISH
X-WR-CALNAME:Fejø
X-ORIGINAL-URL:https://fejoe.dk
X-WR-CALDESC:Begivenheder for Fejø
REFRESH-INTERVAL;VALUE=DURATION:PT1H
X-Robots-Tag:noindex
X-PUBLISHED-TTL:PT1H
BEGIN:VTIMEZONE
TZID:Europe/Copenhagen
BEGIN:DAYLIGHT
TZOFFSETFROM:+0100
TZOFFSETTO:+0200
TZNAME:CEST
DTSTART:20250330T010000
END:DAYLIGHT
BEGIN:STANDARD
TZOFFSETFROM:+0200
TZOFFSETTO:+0100
TZNAME:CET
DTSTART:20251026T010000
END:STANDARD
BEGIN:DAYLIGHT
TZOFFSETFROM:+0100
TZOFFSETTO:+0200
TZNAME:CEST
DTSTART:20260329T010000
END:DAYLIGHT
BEGIN:STANDARD
TZOFFSETFROM:+0200
TZOFFSETTO:+0100
TZNAME:CET
DTSTART:20261025T010000
END:STANDARD
BEGIN:DAYLIGHT
TZOFFSETFROM:+0100
TZOFFSETTO:+0200
TZNAME:CEST
DTSTART:20270328T010000
END:DAYLIGHT
BEGIN:STANDARD
TZOFFSETFROM:+0200
TZOFFSETTO:+0100
TZNAME:CET
DTSTART:20271031T010000
END:STANDARD
END:VTIMEZONE
BEGIN:VEVENT
DTSTART;TZID=Europe/Copenhagen:20260420T210000
DTEND;TZID=Europe/Copenhagen:20260420T233000
DTSTAMP:20260420T020019
CREATED:20251110T202711Z
LAST-MODIFIED:20251110T202711Z
UID:10838-1776718800-1776727800@fejoe.dk
SUMMARY:Deadline for Fejøbladet nr. 3
DESCRIPTION:Bladet udkommer cirka 3/5-26 \nIndlæg sendes til fejoebladet@gmail.com\n– enten som ren tekst i mailen eller i Word\n– billeder vedlægges som separate filer.\nSkriv altid i overskriften\, hvad du sender.
URL:https://fejoe.dk/event/deadline-for-fejoebladet-nr-3-3/
ATTACH;FMTTYPE=image/png:https://fejoe.dk/wp-content/uploads/2023/04/fejoebladet-logo.png
ORGANIZER;CN="Fej%C3%B8foreningen":MAILTO:fejoeforeningen@gmail.com
END:VEVENT
END:VCALENDAR