BEGIN:VCALENDAR
VERSION:2.0
PRODID:-//Fejø - ECPv6.15.20//NONSGML v1.0//EN
CALSCALE:GREGORIAN
METHOD:PUBLISH
X-ORIGINAL-URL:https://fejoe.dk
X-WR-CALDESC:Begivenheder for Fejø
REFRESH-INTERVAL;VALUE=DURATION:PT1H
X-Robots-Tag:noindex
X-PUBLISHED-TTL:PT1H
BEGIN:VTIMEZONE
TZID:Europe/Copenhagen
BEGIN:DAYLIGHT
TZOFFSETFROM:+0100
TZOFFSETTO:+0200
TZNAME:CEST
DTSTART:20250330T010000
END:DAYLIGHT
BEGIN:STANDARD
TZOFFSETFROM:+0200
TZOFFSETTO:+0100
TZNAME:CET
DTSTART:20251026T010000
END:STANDARD
BEGIN:DAYLIGHT
TZOFFSETFROM:+0100
TZOFFSETTO:+0200
TZNAME:CEST
DTSTART:20260329T010000
END:DAYLIGHT
BEGIN:STANDARD
TZOFFSETFROM:+0200
TZOFFSETTO:+0100
TZNAME:CET
DTSTART:20261025T010000
END:STANDARD
BEGIN:DAYLIGHT
TZOFFSETFROM:+0100
TZOFFSETTO:+0200
TZNAME:CEST
DTSTART:20270328T010000
END:DAYLIGHT
BEGIN:STANDARD
TZOFFSETFROM:+0200
TZOFFSETTO:+0100
TZNAME:CET
DTSTART:20271031T010000
END:STANDARD
END:VTIMEZONE
BEGIN:VEVENT
DTSTART;TZID=Europe/Copenhagen:20260314T140000
DTEND;TZID=Europe/Copenhagen:20260314T160000
DTSTAMP:20260419T215421
CREATED:20260126T092221Z
LAST-MODIFIED:20260126T092221Z
UID:10884-1773496800-1773504000@fejoe.dk
SUMMARY:Generalforsamling i Fejø Møllelaug
DESCRIPTION:Dagsorden iflg. vedtægterne:\n1. Valg af dirigent\n2. Valg af protokolfører og 2 stemmetællere\n3. Formandens beretning\n4. Regnskab\n5. Indkomne forslag\n6. Fastsættelse af kontingent\n7. Valg af bestyrelsesmedlemmer og suppleanter\n8. Valg af revisor og suppleant\n9. Eventuelt \nEventuelle forslag\, der ønskes behandlet på generalforsamlingen skal senest 1/3 sendes til Fejø Møllelaugs formand Steen Blaabjerg på email steen.i.blaabjerg@gmail.com \nUnder generalforsamlingen serveres kaffe/the og kage. \nHusk at indbetale kontingentet på 100 kr. til møllens konto 0693 0919012 med angivelse af navn og email-adresse. Der kan også indbetales på Mobilepay nummer 885893. \nVel mødt – Bestyrelsen
URL:https://fejoe.dk/event/generalforsamling-i-fejoe-moellelaug-2/
LOCATION:Fejø Mølle\, Herredsvej 278\, 4944 Fejø\, Danmark
ATTACH;FMTTYPE=image/png:https://fejoe.dk/wp-content/uploads/2024/10/Skaermbillede-2024-10-20-145819.png
ORGANIZER;CN="Fej%C3%B8 M%C3%B8llelaug":MAILTO:info@fejoemoelle.dk
END:VEVENT
END:VCALENDAR