BEGIN:VCALENDAR
VERSION:2.0
PRODID:-//Fejø - ECPv6.15.20//NONSGML v1.0//EN
CALSCALE:GREGORIAN
METHOD:PUBLISH
X-ORIGINAL-URL:https://fejoe.dk
X-WR-CALDESC:Begivenheder for Fejø
REFRESH-INTERVAL;VALUE=DURATION:PT1H
X-Robots-Tag:noindex
X-PUBLISHED-TTL:PT1H
BEGIN:VTIMEZONE
TZID:Europe/Copenhagen
BEGIN:DAYLIGHT
TZOFFSETFROM:+0100
TZOFFSETTO:+0200
TZNAME:CEST
DTSTART:20250330T010000
END:DAYLIGHT
BEGIN:STANDARD
TZOFFSETFROM:+0200
TZOFFSETTO:+0100
TZNAME:CET
DTSTART:20251026T010000
END:STANDARD
BEGIN:DAYLIGHT
TZOFFSETFROM:+0100
TZOFFSETTO:+0200
TZNAME:CEST
DTSTART:20260329T010000
END:DAYLIGHT
BEGIN:STANDARD
TZOFFSETFROM:+0200
TZOFFSETTO:+0100
TZNAME:CET
DTSTART:20261025T010000
END:STANDARD
BEGIN:DAYLIGHT
TZOFFSETFROM:+0100
TZOFFSETTO:+0200
TZNAME:CEST
DTSTART:20270328T010000
END:DAYLIGHT
BEGIN:STANDARD
TZOFFSETFROM:+0200
TZOFFSETTO:+0100
TZNAME:CET
DTSTART:20271031T010000
END:STANDARD
END:VTIMEZONE
BEGIN:VEVENT
DTSTART;TZID=Europe/Copenhagen:20260312T190000
DTEND;TZID=Europe/Copenhagen:20260312T203000
DTSTAMP:20260419T232433
CREATED:20260126T092418Z
LAST-MODIFIED:20260126T092418Z
UID:10886-1773342000-1773347400@fejoe.dk
SUMMARY:Generalforsamling i Fejø Vandværk
DESCRIPTION:Dagsorden iflg. vedtægterne\, som kan ses på fejoevand.dk \nForslag sendes til fejoevand@gmail .com eller lægges i postkassen Herredsvej 158 og skal være formanden i hænde senest 8 dage før generalforsamlingen. \nMvh. Bestyrelsen for Fejø Vandværk
URL:https://fejoe.dk/event/generalforsamling-i-fejoe-vandvaerk-2/
LOCATION:Fejø Børne- og Kulturhus\, Herredsvej 192\, Fejø\, 4944
ATTACH;FMTTYPE=image/png:https://fejoe.dk/wp-content/uploads/2024/01/Fejoe-Vandvaerk-logo.png
ORGANIZER;CN="Fej%C3%B8 Vandv%C3%A6rk":MAILTO:fejoevand@gmail.com
END:VEVENT
END:VCALENDAR