BEGIN:VCALENDAR
VERSION:2.0
PRODID:-//Fejø - ECPv6.15.20//NONSGML v1.0//EN
CALSCALE:GREGORIAN
METHOD:PUBLISH
X-WR-CALNAME:Fejø
X-ORIGINAL-URL:https://fejoe.dk
X-WR-CALDESC:Begivenheder for Fejø
REFRESH-INTERVAL;VALUE=DURATION:PT1H
X-Robots-Tag:noindex
X-PUBLISHED-TTL:PT1H
BEGIN:VTIMEZONE
TZID:Europe/Copenhagen
BEGIN:DAYLIGHT
TZOFFSETFROM:+0100
TZOFFSETTO:+0200
TZNAME:CEST
DTSTART:20250330T010000
END:DAYLIGHT
BEGIN:STANDARD
TZOFFSETFROM:+0200
TZOFFSETTO:+0100
TZNAME:CET
DTSTART:20251026T010000
END:STANDARD
BEGIN:DAYLIGHT
TZOFFSETFROM:+0100
TZOFFSETTO:+0200
TZNAME:CEST
DTSTART:20260329T010000
END:DAYLIGHT
BEGIN:STANDARD
TZOFFSETFROM:+0200
TZOFFSETTO:+0100
TZNAME:CET
DTSTART:20261025T010000
END:STANDARD
BEGIN:DAYLIGHT
TZOFFSETFROM:+0100
TZOFFSETTO:+0200
TZNAME:CEST
DTSTART:20270328T010000
END:DAYLIGHT
BEGIN:STANDARD
TZOFFSETFROM:+0200
TZOFFSETTO:+0100
TZNAME:CET
DTSTART:20271031T010000
END:STANDARD
END:VTIMEZONE
BEGIN:VEVENT
DTSTART;TZID=Europe/Copenhagen:20260308T130000
DTEND;TZID=Europe/Copenhagen:20260308T170000
DTSTAMP:20260419T215203
CREATED:20251208T104018Z
LAST-MODIFIED:20260303T203318Z
UID:10851-1772974800-1772989200@fejoe.dk
SUMMARY:Visionsmøde 10 er AFLYST
DESCRIPTION:Mødet er aflyst – vi holder i stedet visionsmødet søndag den 26. april \nVi vil primært beskæftige os med natur&landbrug\, infrastruktur og måske bosætning.\nNaturstyrelsen deltager med et oplæg om Nationalpark Smålandsfarvandet\, og der vil være indlæg og debat om en ø-udviklingsplan for Fejø og om øens vandkvalitet.
URL:https://fejoe.dk/event/visionsmoede-10/
LOCATION:Fejø Børne- og Kulturhus\, Herredsvej 192\, Fejø\, 4944
ATTACH;FMTTYPE=image/png:https://fejoe.dk/wp-content/uploads/2022/11/Fejoe-logo.png
ORGANIZER;CN="Fej%C3%B8foreningen":MAILTO:fejoeforeningen@gmail.com
END:VEVENT
END:VCALENDAR