BEGIN:VCALENDAR
VERSION:2.0
PRODID:-//Fejø - ECPv6.15.20//NONSGML v1.0//EN
CALSCALE:GREGORIAN
METHOD:PUBLISH
X-WR-CALNAME:Fejø
X-ORIGINAL-URL:https://fejoe.dk
X-WR-CALDESC:Begivenheder for Fejø
REFRESH-INTERVAL;VALUE=DURATION:PT1H
X-Robots-Tag:noindex
X-PUBLISHED-TTL:PT1H
BEGIN:VTIMEZONE
TZID:Europe/Copenhagen
BEGIN:DAYLIGHT
TZOFFSETFROM:+0100
TZOFFSETTO:+0200
TZNAME:CEST
DTSTART:20250330T010000
END:DAYLIGHT
BEGIN:STANDARD
TZOFFSETFROM:+0200
TZOFFSETTO:+0100
TZNAME:CET
DTSTART:20251026T010000
END:STANDARD
BEGIN:DAYLIGHT
TZOFFSETFROM:+0100
TZOFFSETTO:+0200
TZNAME:CEST
DTSTART:20260329T010000
END:DAYLIGHT
BEGIN:STANDARD
TZOFFSETFROM:+0200
TZOFFSETTO:+0100
TZNAME:CET
DTSTART:20261025T010000
END:STANDARD
BEGIN:DAYLIGHT
TZOFFSETFROM:+0100
TZOFFSETTO:+0200
TZNAME:CEST
DTSTART:20270328T010000
END:DAYLIGHT
BEGIN:STANDARD
TZOFFSETFROM:+0200
TZOFFSETTO:+0100
TZNAME:CET
DTSTART:20271031T010000
END:STANDARD
END:VTIMEZONE
BEGIN:VEVENT
DTSTART;TZID=Europe/Copenhagen:20260304T183000
DTEND;TZID=Europe/Copenhagen:20260304T200000
DTSTAMP:20260419T215156
CREATED:20260126T095107Z
LAST-MODIFIED:20260126T095107Z
UID:10899-1772649000-1772654400@fejoe.dk
SUMMARY:Generalforsamling i Støtteforeningen Fejø Børne- og Kulturhus
DESCRIPTION:Dagsorden ifølge vedtægterne. Forslag til behandling sendes senest 14 dage før GF til Lene Hindsbo: lenekusk78@gmail.com. Vel mødt!
URL:https://fejoe.dk/event/generalforsamling-i-stoetteforeningen-fejoe-boerne-og-kulturhus/
LOCATION:Mødelokalet\, Fejø Skole\, Herredsvej 190\, Fejø\, 4944\, Denmark
ATTACH;FMTTYPE=image/jpeg:https://fejoe.dk/wp-content/uploads/2018/06/IMG_3839.jpg
ORGANIZER;CN="St%C3%B8tteforeningen for Fej%C3%B8 B%C3%B8rne%E2%80%93 og Kulturhus":MAILTO:cgregersennielsen@gmail.com
END:VEVENT
END:VCALENDAR