BEGIN:VCALENDAR
VERSION:2.0
PRODID:-//Fejø - ECPv6.15.20//NONSGML v1.0//EN
CALSCALE:GREGORIAN
METHOD:PUBLISH
X-ORIGINAL-URL:https://fejoe.dk
X-WR-CALDESC:Begivenheder for Fejø
REFRESH-INTERVAL;VALUE=DURATION:PT1H
X-Robots-Tag:noindex
X-PUBLISHED-TTL:PT1H
BEGIN:VTIMEZONE
TZID:Europe/Copenhagen
BEGIN:DAYLIGHT
TZOFFSETFROM:+0100
TZOFFSETTO:+0200
TZNAME:CEST
DTSTART:20250330T010000
END:DAYLIGHT
BEGIN:STANDARD
TZOFFSETFROM:+0200
TZOFFSETTO:+0100
TZNAME:CET
DTSTART:20251026T010000
END:STANDARD
BEGIN:DAYLIGHT
TZOFFSETFROM:+0100
TZOFFSETTO:+0200
TZNAME:CEST
DTSTART:20260329T010000
END:DAYLIGHT
BEGIN:STANDARD
TZOFFSETFROM:+0200
TZOFFSETTO:+0100
TZNAME:CET
DTSTART:20261025T010000
END:STANDARD
BEGIN:DAYLIGHT
TZOFFSETFROM:+0100
TZOFFSETTO:+0200
TZNAME:CEST
DTSTART:20270328T010000
END:DAYLIGHT
BEGIN:STANDARD
TZOFFSETFROM:+0200
TZOFFSETTO:+0100
TZNAME:CET
DTSTART:20271031T010000
END:STANDARD
END:VTIMEZONE
BEGIN:VEVENT
DTSTART;TZID=Europe/Copenhagen:20260109T190000
DTEND;TZID=Europe/Copenhagen:20260109T213000
DTSTAMP:20260420T013218
CREATED:20250831T145806Z
LAST-MODIFIED:20250831T145806Z
UID:10779-1767985200-1767994200@fejoe.dk
SUMMARY:Fredagsfilm
DESCRIPTION:Temaften ”Smag og behag”   Vi viser filmen ”Mig og Pingvinen” 1:51 \nDer serveres en let anretning\, hvortil der kan købes et glas vin. Af hensyn til maden\, er tilmelding nødvendig senest 7/1 til Annette tlf.28348408. Før filmen fortæller vi lidt om Argentinas barske historie. \nFilmen er baseret på en sand historie om en livstræt engelskprofessor\, Tom\, der i 1970’erne rejser til Argentina for at undervise. Her møder han en streng rektor\, en gruppe uregerlige elever og et militærdiktatur i sin vorden. Men alting ændrer sig\, da han en dag redder en pingvin fra et olieudslip på stranden. Det uventede venskab lærer Tom og alle omkring ham noget vigtigt om livet. Filmen er instrueret af ‘The Full Monty’-instruktøren Peter Cattaneo\, der formår at ramme en perfekt balance mellem humor og alvor.
URL:https://fejoe.dk/event/fredagsfilm-4/
LOCATION:Præstegården\, Storemosevej 109\, Fejø\, 4944
ATTACH;FMTTYPE=image/jpeg:https://fejoe.dk/wp-content/uploads/2025/08/Fredagsfilm-25-26-med-logo.jpg
END:VEVENT
END:VCALENDAR