BEGIN:VCALENDAR
VERSION:2.0
PRODID:-//Fejø - ECPv6.15.20//NONSGML v1.0//EN
CALSCALE:GREGORIAN
METHOD:PUBLISH
X-WR-CALNAME:Fejø
X-ORIGINAL-URL:https://fejoe.dk
X-WR-CALDESC:Begivenheder for Fejø
REFRESH-INTERVAL;VALUE=DURATION:PT1H
X-Robots-Tag:noindex
X-PUBLISHED-TTL:PT1H
BEGIN:VTIMEZONE
TZID:Europe/Copenhagen
BEGIN:DAYLIGHT
TZOFFSETFROM:+0100
TZOFFSETTO:+0200
TZNAME:CEST
DTSTART:20240331T010000
END:DAYLIGHT
BEGIN:STANDARD
TZOFFSETFROM:+0200
TZOFFSETTO:+0100
TZNAME:CET
DTSTART:20241027T010000
END:STANDARD
BEGIN:DAYLIGHT
TZOFFSETFROM:+0100
TZOFFSETTO:+0200
TZNAME:CEST
DTSTART:20250330T010000
END:DAYLIGHT
BEGIN:STANDARD
TZOFFSETFROM:+0200
TZOFFSETTO:+0100
TZNAME:CET
DTSTART:20251026T010000
END:STANDARD
BEGIN:DAYLIGHT
TZOFFSETFROM:+0100
TZOFFSETTO:+0200
TZNAME:CEST
DTSTART:20260329T010000
END:DAYLIGHT
BEGIN:STANDARD
TZOFFSETFROM:+0200
TZOFFSETTO:+0100
TZNAME:CET
DTSTART:20261025T010000
END:STANDARD
END:VTIMEZONE
BEGIN:VEVENT
DTSTART;VALUE=DATE:20250906
DTEND;VALUE=DATE:20250915
DTSTAMP:20260422T172429
CREATED:20250801T201114Z
LAST-MODIFIED:20250801T201114Z
UID:10758-1757116800-1757894399@fejoe.dk
SUMMARY:Pæreskuden sælger frugt i Nyhavn
DESCRIPTION:Vi sælger frugt hver dag fra kl. 10 til 17 og har brug for friske sælgere. Det er sjovt og hyggeligt at være med. \nInformationer og tilmelding hos mettemorell53@gmail.com
URL:https://fejoe.dk/event/paereskuden-saelger-frugt-i-nyhavn/
LOCATION:Nyhavn\, Nyhavn\, København\, Danmark
ATTACH;FMTTYPE=image/png:https://fejoe.dk/wp-content/uploads/2025/08/Skaermbillede-2025-08-01-220851.png
END:VEVENT
END:VCALENDAR