BEGIN:VCALENDAR
VERSION:2.0
PRODID:-//Fejø - ECPv6.15.20//NONSGML v1.0//EN
CALSCALE:GREGORIAN
METHOD:PUBLISH
X-ORIGINAL-URL:https://fejoe.dk
X-WR-CALDESC:Begivenheder for Fejø
REFRESH-INTERVAL;VALUE=DURATION:PT1H
X-Robots-Tag:noindex
X-PUBLISHED-TTL:PT1H
BEGIN:VTIMEZONE
TZID:Europe/Copenhagen
BEGIN:DAYLIGHT
TZOFFSETFROM:+0100
TZOFFSETTO:+0200
TZNAME:CEST
DTSTART:20200329T010000
END:DAYLIGHT
BEGIN:STANDARD
TZOFFSETFROM:+0200
TZOFFSETTO:+0100
TZNAME:CET
DTSTART:20201025T010000
END:STANDARD
BEGIN:DAYLIGHT
TZOFFSETFROM:+0100
TZOFFSETTO:+0200
TZNAME:CEST
DTSTART:20210328T010000
END:DAYLIGHT
BEGIN:STANDARD
TZOFFSETFROM:+0200
TZOFFSETTO:+0100
TZNAME:CET
DTSTART:20211031T010000
END:STANDARD
BEGIN:DAYLIGHT
TZOFFSETFROM:+0100
TZOFFSETTO:+0200
TZNAME:CEST
DTSTART:20220327T010000
END:DAYLIGHT
BEGIN:STANDARD
TZOFFSETFROM:+0200
TZOFFSETTO:+0100
TZNAME:CET
DTSTART:20221030T010000
END:STANDARD
END:VTIMEZONE
BEGIN:VEVENT
DTSTART;VALUE=DATE:20210501
DTEND;VALUE=DATE:20211001
DTSTAMP:20260422T124943
CREATED:20210502T164948Z
LAST-MODIFIED:20210502T164948Z
UID:4236-1619827200-1633046399@fejoe.dk
SUMMARY:Fejø Ø-museum
DESCRIPTION:Så er der igen åben i Fejø Ø-museum. \nGå på opdagelse i Fejøs historie\, se kopi af Fejøbægeret og meget mere………. \nTirsdage kl.19-22 \nLørdage kl.13-17 \nIndgang i kælderen.  Husk mundbind og Coronapas !
URL:https://fejoe.dk/event/fejoe-oe-museum/
LOCATION:Fejø Børne- og Kulturhus\, Herredsvej 192\, Fejø\, 4944
ATTACH;FMTTYPE=image/jpeg:https://fejoe.dk/wp-content/uploads/2019/07/Fejø-Bægeret-kopi32815.jpg
ORGANIZER;CN="Fej%C3%B8 Lokalhistoriske Arkiv og %C3%98-museum":MAILTO:fejoearkiv@gmail.com
END:VEVENT
BEGIN:VEVENT
DTSTART;TZID=Europe/Copenhagen:20210515T150000
DTEND;TZID=Europe/Copenhagen:20210515T183000
DTSTAMP:20260422T124943
CREATED:20200417T082800Z
LAST-MODIFIED:20210430T143831Z
UID:3825-1621090800-1621103400@fejoe.dk
SUMMARY:Danske og franske kærlighedssange
DESCRIPTION:Musikalsk foredrag af Jeannet Ulrikkeholm\nDe danske sange er af Jeppe Aakjær\, Halfdan Rasmussen og H.C. Andersen. De franske sange er folkesange\, historiske sange og en perlerække af Edith Piaffs sange. De fleste kender La vie en rose og hymne til kærligheden\, men hvad betyder sangene egentlig? \nFransk buffet og 1 glas vin\, kaffe og kage. \nNB! Mulighed for at bestille billet herunder åbner snarest på link her under: \nPlace2Book
URL:https://fejoe.dk/event/danske-og-franske-kaerlighedssange-2/
LOCATION:Fejø Børne- og Kulturhus\, Herredsvej 192\, Fejø\, 4944
ATTACH;FMTTYPE=image/png:https://fejoe.dk/wp-content/uploads/2020/01/Logo-fejø-festival.png
ORGANIZER;CN="Fej%C3%B8 Kammermusikforening":MAILTO:fejosfestival@gmail.com
END:VEVENT
END:VCALENDAR